BEGIN:VCALENDAR
VERSION:2.0
PRODID:-//wp-events-plugin.com//7.2.3.1//EN
TZID:Europe/Paris
X-WR-TIMEZONE:Europe/Paris
BEGIN:VEVENT
UID:60@msp-bellevue-nantes-ouest.fr
DTSTART;TZID=Europe/Paris:20240712T150000
DTEND;TZID=Europe/Paris:20240712T150000
DTSTAMP:20240705T152629Z
URL:https://msp-bellevue-nantes-ouest.fr/events/seance-de-massage-bebe/
SUMMARY:Séance de massage bébé
DESCRIPTION:Pour apprendre à masser et masser votre bébé.\n\nDès les 1 
 mois de bébé\n\navec Mariane Lutton\, sage femme\n\ninscription via Doct
 olib ou par SMS au 06 70 90 83 35\n\npris en charge par la sécurité soci
 ale
ATTACH;FMTTYPE=image/jpeg:https://msp-bellevue-nantes-ouest.fr/wp-content/
 uploads/2024/07/massage-bebe-scaled.jpg
LOCATION:Maison de Santé\, 15 bis boulevard Jean Moulin\, NANTES\, 44100\,
  France
X-APPLE-STRUCTURED-LOCATION;VALUE=URI;X-ADDRESS=15 bis boulevard Jean Mouli
 n\, NANTES\, 44100\, France;X-APPLE-RADIUS=100;X-TITLE=Maison de Santé:ge
 o:0,0
END:VEVENT
BEGIN:VTIMEZONE
TZID:Europe/Paris
X-LIC-LOCATION:Europe/Paris
BEGIN:DAYLIGHT
DTSTART:20240331T030000
TZOFFSETFROM:+0100
TZOFFSETTO:+0200
TZNAME:CEST
END:DAYLIGHT
END:VTIMEZONE
END:VCALENDAR